BEGIN:VCALENDAR
VERSION:2.0
PRODID:-//African Violet Society of America - ECPv6.15.20//NONSGML v1.0//EN
CALSCALE:GREGORIAN
METHOD:PUBLISH
X-ORIGINAL-URL:https://africanvioletsocietyofamerica.org
X-WR-CALDESC:Events for African Violet Society of America
REFRESH-INTERVAL;VALUE=DURATION:PT1H
X-Robots-Tag:noindex
X-PUBLISHED-TTL:PT1H
BEGIN:VTIMEZONE
TZID:America/Chicago
BEGIN:DAYLIGHT
TZOFFSETFROM:-0600
TZOFFSETTO:-0500
TZNAME:CDT
DTSTART:20240310T080000
END:DAYLIGHT
BEGIN:STANDARD
TZOFFSETFROM:-0500
TZOFFSETTO:-0600
TZNAME:CST
DTSTART:20241103T070000
END:STANDARD
BEGIN:DAYLIGHT
TZOFFSETFROM:-0600
TZOFFSETTO:-0500
TZNAME:CDT
DTSTART:20250309T080000
END:DAYLIGHT
BEGIN:STANDARD
TZOFFSETFROM:-0500
TZOFFSETTO:-0600
TZNAME:CST
DTSTART:20251102T070000
END:STANDARD
BEGIN:DAYLIGHT
TZOFFSETFROM:-0600
TZOFFSETTO:-0500
TZNAME:CDT
DTSTART:20260308T080000
END:DAYLIGHT
BEGIN:STANDARD
TZOFFSETFROM:-0500
TZOFFSETTO:-0600
TZNAME:CST
DTSTART:20261101T070000
END:STANDARD
END:VTIMEZONE
BEGIN:VEVENT
DTSTART;TZID=America/Chicago:20251004T090000
DTEND;TZID=America/Chicago:20251004T140000
DTSTAMP:20260421T145546
CREATED:20250721T225315Z
LAST-MODIFIED:20250827T220310Z
UID:42777-1759568400-1759586400@africanvioletsocietyofamerica.org
SUMMARY:Rocky Mountain African Violet Council-CO
DESCRIPTION:African Violet Sale & Display \nEvent Dates and Hours:\nSaturday October 4th\, 2025\n9:00 a.m. until 2:00 p.m. \nLocation:\nTagawa Gardens\n7711 S. Parker RD.\nCentennial\, Colorado 80016 \nContact:\nTrudy Brekel\nEmail: violetlady7@msn.com \nOther info to include:\nAlong with the beautiful display plants we will have lots of African violets and other gesneriads for sale.\nThis is the only show and sale we have this year.
URL:https://africanvioletsocietyofamerica.org/event/rocky-mountain-african-violet-council-co-3/
LOCATION:Tagawa Gardens\, 7711 So Parker Rd.\, Centennial\, CO\, 80016\, United States
CATEGORIES:Display/Sale,Show/Sale
END:VEVENT
BEGIN:VEVENT
DTSTART;TZID=America/Chicago:20251004T090000
DTEND;TZID=America/Chicago:20251004T153000
DTSTAMP:20260421T145546
CREATED:20250708T012742Z
LAST-MODIFIED:20250708T012742Z
UID:42678-1759568400-1759591800@africanvioletsocietyofamerica.org
SUMMARY:African Violet Society of Tacoma-WA
DESCRIPTION:Fall show & plant sale\n“Violets For All Seasons” \nEvent Dates and Hours:\nSaturday\, October 4th\, 2025\n9:00 am – 3:30 pm \nLocation:\nWatson’s Greenhouse and Nursery\n6211 Pioneer Way East\nPuyallup\, WA 98371 \nContact:\nPat Shandrow\nEmail: pat@shandrow.net \nCathleen Graves\nEmail: cathleengraves@raineerconnect.com \nClub email: cathleengraves@raineerconnect.com \n 
URL:https://africanvioletsocietyofamerica.org/event/african-violet-society-of-tacoma-wa/
LOCATION:Watson’s Greenhouse & Nurery\, 6211 Pioneer Way East\, Payallup\, WA\, 98371\, United States
CATEGORIES:Show/Sale
END:VEVENT
BEGIN:VEVENT
DTSTART;TZID=America/Chicago:20251004T100000
DTEND;TZID=America/Chicago:20251004T150000
DTSTAMP:20260421T145546
CREATED:20250801T140325Z
LAST-MODIFIED:20250801T140325Z
UID:42879-1759572000-1759590000@africanvioletsocietyofamerica.org
SUMMARY:Michigan State African Violet Society-MI
DESCRIPTION:African Violet & Gesneriad Display & Sale \nEvent Dates and Hours:\nSaturday\, October 4\, 2025\n10:00 am to 3:00 pm \nLocation:\nMatthaei Botanical Gardens – Room #125\n1800 N. Dixboro Rd\nAnn Arbor\, Michigan 48105 \nContact:\nLynn Allen\nEmail: LynnAllen0413@comcast.net \nClub email: lynnallen0413@comcast.net \nOther info to include:\nFree admission\nMetered parking\nLeaf propagation class at 11:00 am
URL:https://africanvioletsocietyofamerica.org/event/michigan-state-african-violet-society-mi-3/
LOCATION:Matthaei Botanical Gardens\, 1800 N. Dixboro Road\, Ann Arbor\, MI\, 48105\, United States
CATEGORIES:Display/Sale
END:VEVENT
BEGIN:VEVENT
DTSTART;TZID=America/Chicago:20251004T100000
DTEND;TZID=America/Chicago:20251005T150000
DTSTAMP:20260421T145546
CREATED:20250618T220559Z
LAST-MODIFIED:20250618T220559Z
UID:42495-1759572000-1759676400@africanvioletsocietyofamerica.org
SUMMARY:North Star African Violet Council-MN
DESCRIPTION:Fall plant sale and show \nEvent Dates and Hours:\nSaturday\, October 4\, 2025\n10:00 am to 4:00 pm \nSunday\, October 5\, 2025\n11:00 am to 3:00 pm \nLocation:\nBachman’s Floral\, Home & Garden- Heritage Room\n6010 Lyndale Ave. S.\nMinneapolis\, MN 55419 \nContact:\nPaul Hussa\nEmail: gaviidae@aol.com \nClub email: mkealyfalk@aol.com\nClub website: Facebook Page – North Star African Violet Council \nOther info to include:\nThe Plant Sale runs throughout the show. Many varieties\, colors & sizes of African violets and other gesneriads will be available for sale. \n 
URL:https://africanvioletsocietyofamerica.org/event/north-star-african-violet-council-mn-2/
LOCATION:Bachman’s Floral\, Gift & Garden\, 6010 Lyndale Ave. S.\, Minneapolis\, MN\, 55419\, United States
CATEGORIES:Show/Sale
END:VEVENT
BEGIN:VEVENT
DTSTART;TZID=America/Chicago:20251004T130000
DTEND;TZID=America/Chicago:20251004T170000
DTSTAMP:20260421T145546
CREATED:20250313T151325Z
LAST-MODIFIED:20250313T151325Z
UID:41456-1759582800-1759597200@africanvioletsocietyofamerica.org
SUMMARY:Louisiana Lagniappe African Violet Society-LA
DESCRIPTION:44th Annual Show and Plant Sale\n“THANKFUL FOR VIOLETS” \nEvent Dates and Hours:\nSaturday\, October 4\, 2025\n1:00pm – 5:00pm \nLocation:\nBaton Rouge Garden Center\n7950 Independence Blvd.\nBaton Rouge\, LA 70806 \nContact:\nSusie Smith\nEmail: susiesmith@live.com \nClub email: laafricanvioletsociety@gmail.com\nClub website: FACEBOOK: Louisiana Lagniappe African violet Society \nOther Info to Include:\nAdmission is free.\nThere will be nice starter plants for sale.
URL:https://africanvioletsocietyofamerica.org/event/louisiana-lagniappe-african-violet-society-la-3/
LOCATION:Baton Rouge Garden Center\, 7950 Independence Blvd.\, Baton Rouge\, LA\, 70806\, United States
CATEGORIES:Show/Sale
END:VEVENT
BEGIN:VEVENT
DTSTART;TZID=America/Chicago:20251004T133000
DTEND;TZID=America/Chicago:20251005T150000
DTSTAMP:20260421T145546
CREATED:20250730T233233Z
LAST-MODIFIED:20250730T233233Z
UID:42862-1759584600-1759676400@africanvioletsocietyofamerica.org
SUMMARY:African Violet and Gesneriad Society of New Jersey-NJ
DESCRIPTION:African Violet Show & Sale\n“Violets in Murder Mysteries” \nEvent Dates and Hours:\nSaturday\, October 4\, 2025\n1:30 pm – 4:00 pm \nSunday\, October 5\, 2025\n10:30 am – 3:00 pm \nLocation:\nFrelinghuysen Arboretum – Haggerty Educational Building\n353 E Hanover Ave.\nMorristown\, NJ 07960 \nContact:\nGinny Heatter\nEmail: vaheatter@yahoo.com \nKaryn Cichocki\nEmail: kdc05@ptd.net \nClub email: vaheatter@yahoo.com \nOther info to include:\nThere will also be a Gesneriad Society judged show in conjunction with the AVSA sponsored judged show.\nPlant sales will include plants from Lyndon Lyons Greenhouse as well as member grown plants.\nFree admission.
URL:https://africanvioletsocietyofamerica.org/event/african-violet-and-gesneriad-society-of-new-jersey-nj-2/
LOCATION:Frelinghuysen Arboretum\, 353 E. Hanover Avenue\, Morristown\, NJ\, 07960\, United States
CATEGORIES:Show/Sale
END:VEVENT
BEGIN:VEVENT
DTSTART;TZID=America/Chicago:20251010T080000
DTEND;TZID=America/Chicago:20251010T130000
DTSTAMP:20260421T145546
CREATED:20250617T153639Z
LAST-MODIFIED:20250617T172358Z
UID:42456-1760083200-1760101200@africanvioletsocietyofamerica.org
SUMMARY:Missouri Valley African Violet Council-MO
DESCRIPTION:Judging School \nTeacher’s name: Scott Evans\nTeacher’s email: scott.evans@unl.edu \n$20.00 to test\n$10.00 to audit \nEvent Dates and Hours:\nFriday\, October 10\, 2025\n8:00 am to 1:00 pm \nLocation:\nEastmont Living\, Performing Arts Center\n6315 ‘O’ Street\nLincoln\, NE 68510 \nContact:\nJill Jensen\, Convention Chair\njill@jilljensenlaw.com \nClub email: rcjsch@prodigy.net\nClub website: mvavc.org \n  \n  \n  \n 
URL:https://africanvioletsocietyofamerica.org/event/missouri-valley-african-violet-council-mo-4/
LOCATION:Eastmont Living\, Performing Arts Center\, 6315 "O" St.\, Lincoln\, NE\, 68510\, United States
CATEGORIES:Judges School
ATTACH;FMTTYPE=image/jpeg:https://africanvioletsocietyofamerica.org/wp-content/uploads/2021/06/gavel-e1651529730885.jpg
END:VEVENT
BEGIN:VEVENT
DTSTART;TZID=America/Chicago:20251010T080000
DTEND;TZID=America/Chicago:20251011T160000
DTSTAMP:20260421T145546
CREATED:20250617T152208Z
LAST-MODIFIED:20250617T152208Z
UID:42450-1760083200-1760198400@africanvioletsocietyofamerica.org
SUMMARY:Missouri Valley African Violet Council-MO
DESCRIPTION:Plant sale and show \nEvent Dates and Hours:\nFriday\, October 10\, 2025\n8:00 am to 5:00 pm \nSaturday\, October 11\, 2025\n8:00 am to 4:00 pm \nLocation:\nEastmont Living\, Performing Arts Center\n6315 ‘O’ Street\nLincoln\, NE 68510 \nContact:\nJill Jensen\, Convention Chair\njill@jilljensenlaw.com \nClub email: rcjsch@prodigy.net\nClub website: mvavc.org
URL:https://africanvioletsocietyofamerica.org/event/missouri-valley-african-violet-council-mo-3/
LOCATION:Eastmont Living\, Performing Arts Center\, 6315 "O" St.\, Lincoln\, NE\, 68510\, United States
CATEGORIES:Show/Sale
END:VEVENT
BEGIN:VEVENT
DTSTART;TZID=America/Chicago:20251017T100000
DTEND;TZID=America/Chicago:20251018T160000
DTSTAMP:20260421T145546
CREATED:20250414T205127Z
LAST-MODIFIED:20250414T205127Z
UID:41797-1760695200-1760803200@africanvioletsocietyofamerica.org
SUMMARY:African Violet Society of Minnesota-MN
DESCRIPTION:Fall Display and Plant Sale \nEvent Dates and Hours:\nFriday\, October 17\, 2025\n10:00 am to 7:00 pm \nSaturday\, October 18\, 2025\n10:00 am -4:00 pm \nLocation:\nNorthtown Mall -We will be adjacent to Best Buy\n398 Northtown Drive\nBlaine\, MN 55343. \nContact:\nKathy Lahti\nEmail: lahti@lakedalelink.net \nClub email: rcjsch@prodigy.net \nOther Info to Include:\nA large variety of African violets and other Gesneriads will be on display and for sale.\n***Bring a copy of this announcement to our Fall Display to receive a FREE LEAF PACKET\, a $2 value!!
URL:https://africanvioletsocietyofamerica.org/event/african-violet-society-of-minnesota-mn-4/
LOCATION:Northtown Mall\, 398 Northtown Drive\, Blaine\, MN\, 55434\, United States
CATEGORIES:Display/Sale
END:VEVENT
BEGIN:VEVENT
DTSTART;TZID=America/Chicago:20251017T100000
DTEND;TZID=America/Chicago:20251018T160000
DTSTAMP:20260421T145546
CREATED:20250705T143855Z
LAST-MODIFIED:20250705T143855Z
UID:42657-1760695200-1760803200@africanvioletsocietyofamerica.org
SUMMARY:African Violet Society of Minnesota-MN
DESCRIPTION:Fall plant display and sale \nEvent Dates and Hours:\nFriday\, October 17\, 2025\n10:00 am – 7:00 pm \nSaturday\, October 18\, 2025\n10:00 am to 4:00 pm \nLocation:\nNorthtown Mall\n398 Northtown Drive \nBlaine\, MN 55434\nContact: \n  \n  \n 
URL:https://africanvioletsocietyofamerica.org/event/african-violet-society-of-minnesota-mn-5/
LOCATION:Northtown Mall\, 398 Northtown Drive\, Blaine\, MN\, 55434\, United States
CATEGORIES:Display/Sale
END:VEVENT
BEGIN:VEVENT
DTSTART;TZID=America/Chicago:20251018T100000
DTEND;TZID=America/Chicago:20251018T150000
DTSTAMP:20260421T145546
CREATED:20250824T204505Z
LAST-MODIFIED:20250824T204545Z
UID:43098-1760781600-1760799600@africanvioletsocietyofamerica.org
SUMMARY:Central Arkansas African Violet Society-AR
DESCRIPTION:African Violet Plant Sale \nEvent Date and Hours:\nSaturday\, October 18\, 2025\n10:00 am – 3:00 pm \nLocation:\nBest Association Management\n10 Shackleford Plaza\, Suite 100\nLittle Rock\, Arkansas 72211 \nContact:\nAlice Brown\nPhone: 501-590-7692\nEmail: Jerrynalice@att.net \nClub email: caavs@yahoo.com \nOther info to include:\nInstructional class every hour on the hour.
URL:https://africanvioletsocietyofamerica.org/event/central-arkansas-african-violet-society-ar-2/
LOCATION:Best Association Management\, 10 Shackleford Plaza\, Suite 100\, Little Rock\, AR\, 72211\, United States
CATEGORIES:Sale
END:VEVENT
BEGIN:VEVENT
DTSTART;TZID=America/Chicago:20251019T150000
DTEND;TZID=America/Chicago:20251019T160000
DTSTAMP:20260421T145546
CREATED:20250710T010208Z
LAST-MODIFIED:20250827T043059Z
UID:42708-1760886000-1760889600@africanvioletsocietyofamerica.org
SUMMARY:AVSA Virtual Circle - "Hybridizing\, Part 2: Violets by Design\, Not by Accident!" - October 19\, 2025 | 3:00 pm Central
DESCRIPTION:Online Zoom Event for AVSA Members Only \nTOPIC “Hybridizing\, Part 2: Violets by Design\, Not by Accident!” \nSPEAKER Dr. Jeff Smith
URL:https://africanvioletsocietyofamerica.org/event/avsa-virtual-circle-hybridizing-part-ii-october-19-2025-300-pm-central/
LOCATION:GA
CATEGORIES:Virtual Circle
ATTACH;FMTTYPE=image/png:https://africanvioletsocietyofamerica.org/wp-content/uploads/2023/08/AVSA-Virtual-Circle-LOGO-e1692758476179.png
END:VEVENT
BEGIN:VEVENT
DTSTART;TZID=America/Chicago:20251025T110000
DTEND;TZID=America/Chicago:20251025T150000
DTSTAMP:20260421T145546
CREATED:20250729T142302Z
LAST-MODIFIED:20250729T142302Z
UID:42855-1761390000-1761404400@africanvioletsocietyofamerica.org
SUMMARY:African Violet Society of Philadelphia & Liberty Bell Gesneriad Society-PA
DESCRIPTION:Display & Plant Sale \nEvent Dates and Hours:\nSaturday\, October 25th\, 2025\n11:00 am-3:00 pm \nLocation:\nCathedral Village Senior Living – Auditorium\n600 E. Cathedral Road\nPhiladelphia\, PA 19128 \nContact:\nSharon Fullerton\nEmail: LSGesneriad@Outlook.com \nJudy Smith\nEmail: phillyviolets@gmail.com \nClub email:  judithsmith0@gmail.com\nClub website:  http://www.phillyviolets.org \nOther info to include:\nThe display will represent a collection of unusual African violet as well as rare Gesneriads. \nThe plant sale will offer starter plants from members’ collections as well as from Violet Barn and Gary’s Specialty. \nThere will also be an assortment of other plants and an African violet clinic.
URL:https://africanvioletsocietyofamerica.org/event/african-violet-society-of-philadelphia-liberty-bell-gesneriad-society-pa-2/
LOCATION:Cathedral Village Senior Living Community\, 600 E. Cathedral Rd\, Philadelphia\, PA\, 19128\, United States
CATEGORIES:Display/Sale
END:VEVENT
BEGIN:VEVENT
DTSTART;TZID=America/Chicago:20251030T120000
DTEND;TZID=America/Chicago:20251101T160000
DTSTAMP:20260421T145546
CREATED:20250726T135147Z
LAST-MODIFIED:20250729T054202Z
UID:42819-1761825600-1762012800@africanvioletsocietyofamerica.org
SUMMARY:Lone Star African Violet Council-TX
DESCRIPTION:Lone Star African Violet Council Convention 50th Anniversary\nHosted by Spring Branch African Violet Club \nEvent Dates and Hours:\nOctober 30\, 2025\n12:00 pm to 5:00 pm \nOctober 31\, 2025\n9:00 am to 4:30 pm\nShowroom open to public 2:00 pm to 4:30 pm \nNovember 1\, 2025\n8:30 am to 4:00 pm\nShowroom open to public \nLocation:\nDoubleTree By Hilton\nHouston Intercontinental Airport\n15147 John F. Kennedy Blvd.\nHouston\, TX 77032 \nContact:\nTeresa Kaminski\nEmail: tcankam@gmail.com \nOther info to include:\nOpen to the public
URL:https://africanvioletsocietyofamerica.org/event/spring-branch-african-violet-club-tx-4/
LOCATION:Doubletree by Hilton – Houston Airport\, 15747 JFK Blvd.\, Houston\, TX\, 77032\, United States
CATEGORIES:Show/Sale
ATTACH;FMTTYPE=image/jpeg:https://africanvioletsocietyofamerica.org/wp-content/uploads/2025/07/2025-LSAVC-Logo.jpg
END:VEVENT
BEGIN:VEVENT
DTSTART;TZID=America/Chicago:20251031T110000
DTEND;TZID=America/Chicago:20251101T180000
DTSTAMP:20260421T145546
CREATED:20250624T141608Z
LAST-MODIFIED:20250928T031748Z
UID:42580-1761908400-1762020000@africanvioletsocietyofamerica.org
SUMMARY:African Violet Council of Florida-FL
DESCRIPTION:Fall plant sale and show\n“Violet Treasures” \nFriday\, October 31\, 2025\n11:00 am – 6:00 pm \nSaturday\, November 1\, 2025\n9:00 am – 3:00 pm \nLocation:\nChrist Lutheran Church\n2715 Lakeland Hills Blvd.\nLakeland\, FL 33805 \nContact:\nBobbi Johannsen\nEmail: bobbi@jacksonvilleviolets.org \nClub email: avcf@jacksonvilleviolets.org\nClub website: https://africanvioletcouncilofflorida.club/ \nOther info to include:\nGrowers from the state of Florida provide African violets and other Gesneriads for competition and sale.\nSeminars on Violet growing available both days.\nCommercial vendors:\nBloomin’ Jungle and Viola’s Violets & Gifts.\nMember’s plants will also be available for purchase.
URL:https://africanvioletsocietyofamerica.org/event/african-violet-council-of-florida-fl-4/
LOCATION:Christ Lutheran Church\, 2715 Lakeland Hills Boulevard\, Lakeland\, FL\, 33805\, United States
CATEGORIES:Show/Sale
END:VEVENT
BEGIN:VEVENT
DTSTART;TZID=America/Chicago:20251031T133000
DTEND;TZID=America/Chicago:20251101T153000
DTSTAMP:20260421T145546
CREATED:20250721T223711Z
LAST-MODIFIED:20250721T234255Z
UID:42771-1761917400-1762011000@africanvioletsocietyofamerica.org
SUMMARY:New York State African Violet Society-NY
DESCRIPTION:Plant show and sale\n“Prime Time Violets” \nEvent Dates and Hours:\nFriday\, October 31\, 2025\n1:30 pm – 5:00 pm \nNovember 1\, 2025\n9:00 am -3:30 pm \nLocation:\nHilton Garden Inn\n800 Pittsford-Victor Road\nPittsford\, NY 14534 \nContact:\nDoug Burdick\nEmail: dburdick@msn.com \nDeborah Donaldson\nEmail: playmisty4me63@msn.com \nJudy Niemira\,\nEmail: Judith.Niemira@gmail.com \n 
URL:https://africanvioletsocietyofamerica.org/event/new-york-state-african-violet-society-ny-4/
LOCATION:Hilton Garden Inn\, 800 Pittsford-Victor Road\, Pittsford\, NY\, 14534\, United States
CATEGORIES:Show/Sale
END:VEVENT
END:VCALENDAR