BEGIN:VCALENDAR
VERSION:2.0
PRODID:-//African Violet Society of America - ECPv6.15.20//NONSGML v1.0//EN
CALSCALE:GREGORIAN
METHOD:PUBLISH
X-ORIGINAL-URL:https://africanvioletsocietyofamerica.org
X-WR-CALDESC:Events for African Violet Society of America
REFRESH-INTERVAL;VALUE=DURATION:PT1H
X-Robots-Tag:noindex
X-PUBLISHED-TTL:PT1H
BEGIN:VTIMEZONE
TZID:America/Chicago
BEGIN:DAYLIGHT
TZOFFSETFROM:-0600
TZOFFSETTO:-0500
TZNAME:CDT
DTSTART:20250309T080000
END:DAYLIGHT
BEGIN:STANDARD
TZOFFSETFROM:-0500
TZOFFSETTO:-0600
TZNAME:CST
DTSTART:20251102T070000
END:STANDARD
BEGIN:DAYLIGHT
TZOFFSETFROM:-0600
TZOFFSETTO:-0500
TZNAME:CDT
DTSTART:20260308T080000
END:DAYLIGHT
BEGIN:STANDARD
TZOFFSETFROM:-0500
TZOFFSETTO:-0600
TZNAME:CST
DTSTART:20261101T070000
END:STANDARD
BEGIN:DAYLIGHT
TZOFFSETFROM:-0600
TZOFFSETTO:-0500
TZNAME:CDT
DTSTART:20270314T080000
END:DAYLIGHT
BEGIN:STANDARD
TZOFFSETFROM:-0500
TZOFFSETTO:-0600
TZNAME:CST
DTSTART:20271107T070000
END:STANDARD
END:VTIMEZONE
BEGIN:VEVENT
DTSTART;TZID=America/Chicago:20261010T120000
DTEND;TZID=America/Chicago:20261010T150000
DTSTAMP:20260421T144355
CREATED:20260416T161119Z
LAST-MODIFIED:20260416T161119Z
UID:45859-1791633600-1791644400@africanvioletsocietyofamerica.org
SUMMARY:African Violet Club of Greater Atlanta-GA
DESCRIPTION:African Violet Show & Plant Sale\n“Seasons of Violets” \nEvent Dates and Hours:\nSaturday\, October 10\, 2026\n12:00 p.m.- 3:00 p.m. \nLocation:\nFirst Baptist Church of Decatur\n308 Clairemont Ave.\nDecatur\, GA 30030 \nContact:\nAlfredo Hernandez\nEmail: alfredo@mac.com \nClub email: avclubofga@gmail.com\nClub website: Facebook: TheAVCGA \n 
URL:https://africanvioletsocietyofamerica.org/event/african-violet-club-of-greater-atlanta-ga-3/
LOCATION:First Baptist Church of Decatur\, 308 Clairemont\, Decatur\, GA\, 30030\, United States
CATEGORIES:Show/Sale
END:VEVENT
END:VCALENDAR