BEGIN:VCALENDAR
VERSION:2.0
PRODID:-//African Violet Society of America - ECPv6.15.20//NONSGML v1.0//EN
CALSCALE:GREGORIAN
METHOD:PUBLISH
X-ORIGINAL-URL:https://africanvioletsocietyofamerica.org
X-WR-CALDESC:Events for African Violet Society of America
REFRESH-INTERVAL;VALUE=DURATION:PT1H
X-Robots-Tag:noindex
X-PUBLISHED-TTL:PT1H
BEGIN:VTIMEZONE
TZID:America/Chicago
BEGIN:DAYLIGHT
TZOFFSETFROM:-0600
TZOFFSETTO:-0500
TZNAME:CDT
DTSTART:20250309T080000
END:DAYLIGHT
BEGIN:STANDARD
TZOFFSETFROM:-0500
TZOFFSETTO:-0600
TZNAME:CST
DTSTART:20251102T070000
END:STANDARD
BEGIN:DAYLIGHT
TZOFFSETFROM:-0600
TZOFFSETTO:-0500
TZNAME:CDT
DTSTART:20260308T080000
END:DAYLIGHT
BEGIN:STANDARD
TZOFFSETFROM:-0500
TZOFFSETTO:-0600
TZNAME:CST
DTSTART:20261101T070000
END:STANDARD
BEGIN:DAYLIGHT
TZOFFSETFROM:-0600
TZOFFSETTO:-0500
TZNAME:CDT
DTSTART:20270314T080000
END:DAYLIGHT
BEGIN:STANDARD
TZOFFSETFROM:-0500
TZOFFSETTO:-0600
TZNAME:CST
DTSTART:20271107T070000
END:STANDARD
END:VTIMEZONE
BEGIN:VEVENT
DTSTART;TZID=America/Chicago:20260425T090000
DTEND;TZID=America/Chicago:20260425T160000
DTSTAMP:20260421T062822
CREATED:20251029T153441Z
LAST-MODIFIED:20251029T153441Z
UID:43985-1777107600-1777132800@africanvioletsocietyofamerica.org
SUMMARY:Lakeshore African Violet Society Of Toronto-CAN
DESCRIPTION:African Violet Show and Sale\n“Violets Go To The Movies” \nEvent Dates and Hours:\nSaturday April 25\, 2026\n9:00 a.m. – 4:00 p.m. \nLocation:\nSt. Philip’s Lutheran Church\n61 West Deane Park Drive\nEtobicoke\, Ontario\nM9B 2S1 \nContact:\nBeverley Williams -Show Chairman\nEmail: beverleyandbrucewilliams@rogers.com \nClub email: info@lakeshoreavs.com\nClub website: https://lakeshoreavs.com \nOther info to include:\nFree parking and admission\nCash Sales Only
URL:https://africanvioletsocietyofamerica.org/event/lakeshore-african-violet-society-of-toronto-can-2/
LOCATION:St. Philip’s Lutheran Church\, 61 West Deane Park Drive\, Etobicoke\, Ontario\, M9B 2S1\, Canada
CATEGORIES:Show/Sale
END:VEVENT
BEGIN:VEVENT
DTSTART;TZID=America/Chicago:20260425T100000
DTEND;TZID=America/Chicago:20260425T160000
DTSTAMP:20260421T062822
CREATED:20251130T221608Z
LAST-MODIFIED:20251130T221608Z
UID:44370-1777111200-1777132800@africanvioletsocietyofamerica.org
SUMMARY:Bay State African Violet Society-MA
DESCRIPTION:61st Annual African Violet Show and Sale\n“Every Day Is A Holiday With Violets” \nEvent Dates and Hours:\nSaturday\, April 25\, 2026\n10:00 a.m. – 4:00 p.m. \nLocation:\nNew England Botanic Garden at Tower Hill\n11 French Drive\nBoylston\, MA 01505 \nContact:\nPeg Crawford\nEmail: peg_crawford@msn.com \nClub email: peg_crawford@msn.com\nClub website: https://baystateafricanvioletsociety.wildapricot.org/
URL:https://africanvioletsocietyofamerica.org/event/bay-state-african-violet-society-ma-3/
LOCATION:New England Botanic Garden\, 11 French Dr.\, Boylston\, MA\, United States
CATEGORIES:Show/Sale
END:VEVENT
BEGIN:VEVENT
DTSTART;TZID=America/Chicago:20260425T120000
DTEND;TZID=America/Chicago:20260425T150000
DTSTAMP:20260421T062822
CREATED:20251109T155027Z
LAST-MODIFIED:20251109T155027Z
UID:44197-1777118400-1777129200@africanvioletsocietyofamerica.org
SUMMARY:Copper State African Violet Club-AZ
DESCRIPTION:African Violet Show and Sale\n“Enchanted Gardens” \nEvent Dates and Hours:\nSaturday\, April 25\, 2026\n12:00 p.m. – 3:00 p.m. \nLocation:\nSt. Stephen Byzantine Catholic Cathedral\n8141 N. 16th Street\nPhoenix\, Arizona 85020 \nContact:\nSusan Anderson\nEmail: CopperStateAVC@gmail.com \nClub email: copperstateavc@gmail.com\nClub website: http://www.copperstateavc.com \nOther info to include:\nFree entry and parking.
URL:https://africanvioletsocietyofamerica.org/event/copper-state-african-violet-club-az-2/
LOCATION:St. Stephen Byzantine Catholic Cathedral\, 8141 N 16th ST\, Phoenix\, AZ\, 85020\, United States
CATEGORIES:Show/Sale
END:VEVENT
BEGIN:VEVENT
DTSTART;TZID=America/Chicago:20260425T120000
DTEND;TZID=America/Chicago:20260425T160000
DTSTAMP:20260421T062822
CREATED:20251124T164020Z
LAST-MODIFIED:20251124T164020Z
UID:44298-1777118400-1777132800@africanvioletsocietyofamerica.org
SUMMARY:African Violet Club of Burlington County-NJ
DESCRIPTION:32nd Annual Show and Sale\n“Violets at Work” \nEvent Dates and Hours:\nSaturday\, April 25\, 2026\n12:00 p.m. – 4:00 p.m. \nLocation:\nBurlington County Lyceum of History and Natural Sciences\n307 High St.\nMount Holly\, N.J. 08060 \nContact:\nSusan Arnao\nEmail: SEArnao@aol.com \n 
URL:https://africanvioletsocietyofamerica.org/event/african-violet-club-of-burlington-county-nj-3/
LOCATION:Burlington County Lyceum of History and Natural Sciences\, 307 High St.\, Mount Holly\, New Jersey\, 08060\, United States
CATEGORIES:Show/Sale
END:VEVENT
END:VCALENDAR