BEGIN:VCALENDAR
VERSION:2.0
PRODID:-//African Violet Society of America - ECPv6.15.20//NONSGML v1.0//EN
CALSCALE:GREGORIAN
METHOD:PUBLISH
X-WR-CALNAME:African Violet Society of America
X-ORIGINAL-URL:https://africanvioletsocietyofamerica.org
X-WR-CALDESC:Events for African Violet Society of America
REFRESH-INTERVAL;VALUE=DURATION:PT1H
X-Robots-Tag:noindex
X-PUBLISHED-TTL:PT1H
BEGIN:VTIMEZONE
TZID:America/Chicago
BEGIN:DAYLIGHT
TZOFFSETFROM:-0600
TZOFFSETTO:-0500
TZNAME:CDT
DTSTART:20230312T080000
END:DAYLIGHT
BEGIN:STANDARD
TZOFFSETFROM:-0500
TZOFFSETTO:-0600
TZNAME:CST
DTSTART:20231105T070000
END:STANDARD
BEGIN:DAYLIGHT
TZOFFSETFROM:-0600
TZOFFSETTO:-0500
TZNAME:CDT
DTSTART:20240310T080000
END:DAYLIGHT
BEGIN:STANDARD
TZOFFSETFROM:-0500
TZOFFSETTO:-0600
TZNAME:CST
DTSTART:20241103T070000
END:STANDARD
BEGIN:DAYLIGHT
TZOFFSETFROM:-0600
TZOFFSETTO:-0500
TZNAME:CDT
DTSTART:20250309T080000
END:DAYLIGHT
BEGIN:STANDARD
TZOFFSETFROM:-0500
TZOFFSETTO:-0600
TZNAME:CST
DTSTART:20251102T070000
END:STANDARD
BEGIN:DAYLIGHT
TZOFFSETFROM:-0600
TZOFFSETTO:-0500
TZNAME:CDT
DTSTART:20260308T080000
END:DAYLIGHT
BEGIN:STANDARD
TZOFFSETFROM:-0500
TZOFFSETTO:-0600
TZNAME:CST
DTSTART:20261101T070000
END:STANDARD
BEGIN:DAYLIGHT
TZOFFSETFROM:-0600
TZOFFSETTO:-0500
TZNAME:CDT
DTSTART:20270314T080000
END:DAYLIGHT
BEGIN:STANDARD
TZOFFSETFROM:-0500
TZOFFSETTO:-0600
TZNAME:CST
DTSTART:20271107T070000
END:STANDARD
END:VTIMEZONE
BEGIN:VEVENT
DTSTART;TZID=America/Chicago:20241019T100000
DTEND;TZID=America/Chicago:20241019T150000
DTSTAMP:20260421T111734
CREATED:20240625T133101Z
LAST-MODIFIED:20240628T004246Z
UID:39007-1729332000-1729350000@africanvioletsocietyofamerica.org
SUMMARY:Portland African Violet Association-OR
DESCRIPTION:Annual Fall Sale \nEvent Dates and Hours:\nSaturday\, October 19\, 2024\n10:00 am to 3:00 pm\, or until plants are sold out! \nLocation:\nPortland Nursery\n9000 SE Division St.\nPortland\, OR 97266 \nContact:\nPenny Eggleston\, President \nClub Email: portlandvioletclub@protonmail.com \nClub Website: https://www.facebook.com/groups/1392887917464002 \nOther info to include:\nFree to the public! Credit cards\, cash and checks welcomed. Demonstrations on various aspects of growing violets. Meet our club members and consider joining! Sign up to get our newsletter or Spring Sale notification.\nJoin us for meetings! They are generally held the 3rd Saturday of the month\, from noon to approx. 2:00 pm. Contact us for the location\, as it varies.We take a break during the months of July and August.
URL:https://africanvioletsocietyofamerica.org/event/portland-african-violet-association-or-2/
LOCATION:Portland Nursery Division\, 9000 SE Division\, Portland\, Oregon\, 97266\, United States
CATEGORIES:Sale
END:VEVENT
BEGIN:VEVENT
DTSTART;TZID=America/Chicago:20250321T090000
DTEND;TZID=America/Chicago:20250322T160000
DTSTAMP:20260421T111735
CREATED:20250108T202541Z
LAST-MODIFIED:20250108T202655Z
UID:40764-1742547600-1742659200@africanvioletsocietyofamerica.org
SUMMARY:Alpha African Violet Society\, First African Violet Society of Dallas\, First Nighter African Violet Society-TX
DESCRIPTION:Spring African Violet Sale \nEvent Dates and Hours:\nFriday\, March 21\, 2025\n9:00 am – 4:00 pm \nSaturday\, March 22\, 2025\n9:00 am – 4:00 pm \nLocation:\nNorth Haven Gardens\n7700 Northaven Road\nDallas\, TX 75230 \nContact:\nMary Corondan\nmcorondan@yahoo.com \nClub email: first.nighter.avs@gmail.com\nClub website: fnavsd.org \nOther Info to Include: \nWorkshops will be held at 10 am and 2 pm daily
URL:https://africanvioletsocietyofamerica.org/event/alpha-african-violet-society-first-african-violet-society-of-dallas-first-nighter-african-violet-society-tx-2/
LOCATION:North Haven Gardens\, 7700 Northaven Road\, Dallas\, TX\, 75230\, United States
CATEGORIES:Sale
END:VEVENT
BEGIN:VEVENT
DTSTART;TZID=America/Chicago:20250503T120000
DTEND;TZID=America/Chicago:20250503T150000
DTSTAMP:20260421T111735
CREATED:20250203T180826Z
LAST-MODIFIED:20250203T181419Z
UID:41180-1746273600-1746284400@africanvioletsocietyofamerica.org
SUMMARY:African Violet Club of Greater Atlanta-GA
DESCRIPTION:African Violet and Gesneriad Spring Sale \nEvent Dates and Hours:\nSaturday May 3rd\, 2025\n12:00 pm – 3:00 pm \nLocation:\nFirst Baptist Church of Decatur\n308 Clairemont Ave\nDecatur GA 30030 \nContact:\nAlfredo Hernandez\nEmail: alfredo@mac.com \nClub email: avclubofga@gmail.com \n 
URL:https://africanvioletsocietyofamerica.org/event/african-violet-club-of-greater-atlanta/
LOCATION:First Baptist Church of Decatur\, 308 Clairemont\, Decatur\, GA\, 30030\, United States
CATEGORIES:Sale
END:VEVENT
BEGIN:VEVENT
DTSTART;TZID=America/Chicago:20250509T100000
DTEND;TZID=America/Chicago:20250509T160000
DTSTAMP:20260421T111735
CREATED:20250320T161733Z
LAST-MODIFIED:20250320T162009Z
UID:41484-1746784800-1746806400@africanvioletsocietyofamerica.org
SUMMARY:Central Florida African Violet Society-FL
DESCRIPTION:Plant Sale\nAfrican Violets For Mother’s Day \nEvent Dates and Hours:\nFriday\, May 9\, 2025\n10:00 am to 4:00 pm \nLocation:\nBeardall Senior Center\n800 S. Delaney Ave.\nOrlando\, Florida 32801 \nContact:\nJim King\nEmail: jking263@cfl.rr.com \n 
URL:https://africanvioletsocietyofamerica.org/event/central-florida-african-violet-society-fl-4/
LOCATION:Beardall Senior Center\, 800 S. Delaney Avenue\, Orlando\, FL\, 32801\, United States
CATEGORIES:Sale
END:VEVENT
BEGIN:VEVENT
DTSTART;TZID=America/Chicago:20250509T100000
DTEND;TZID=America/Chicago:20250510T160000
DTSTAMP:20260421T111735
CREATED:20250107T170021Z
LAST-MODIFIED:20250107T170021Z
UID:40748-1746784800-1746892800@africanvioletsocietyofamerica.org
SUMMARY:Billings Bloomers African Violet Society-MT
DESCRIPTION:African Violet Sale \nEvent Dates and Hours:\nFriday\, May 9\, 2025\n10:00 am-4:00 pm \nSaturday\, May 10\, 2025\n10:00 am-4:00 pm \nLocation:\nSt. Andrew’s Presbyterian Church\n180 24th ST. W\nBillings\, MT 59102 \nContact:\nRobin\nPhone: 406-256-3513 \nBev Amen\nPhone: 406-656-2694 \nKathy Plumage\nPhone: 406-670-4204 \nClub email: keefekat@bresnan.net\nClub website: https://www.facebook.com/groups/2086312411707859 \nOther Info to Include: \nFollow us on Facebook to be notified of any last minute changes.\nhttps://www.facebook.com/groups/2086312411707859 \n 
URL:https://africanvioletsocietyofamerica.org/event/billings-bloomers-african-violet-society-mt/
LOCATION:St. Andrew’s Presbyterian Church\, 180 24th St. W\, Billings\, MT\, 59102\, United States
CATEGORIES:Sale
END:VEVENT
BEGIN:VEVENT
DTSTART;TZID=America/Chicago:20250510T090000
DTEND;TZID=America/Chicago:20250510T160000
DTSTAMP:20260421T111735
CREATED:20240930T232336Z
LAST-MODIFIED:20240930T232336Z
UID:39723-1746867600-1746892800@africanvioletsocietyofamerica.org
SUMMARY:Toronto African Violet & Gesneriad Society-CAN
DESCRIPTION:African Violet Sale \nEvent Dates and Hours: \nSaturday\, May 10\,  2025\n10:00 am – 4:00 pm \nLocation: \nToronto Botanical Garden\n777 Lawrence Ave. East\nToronto\, Ontario M3C 1P2 \nContact: \nJulie Thompson\nEmail: jmthompson50@xplornet.ca \nBrett Flewelling\nEmail: brettf@cogeco.ca \nClub website: https://tavgs.ca/ \nOther Info to Include: \nAfrican Violet Show & Gesneriad Show in Floral Hall\nSales in Studio 1 & 2 & 3\nAdmission: $2.00
URL:https://africanvioletsocietyofamerica.org/event/toronto-african-violet-gesneriad-society-can-2/
LOCATION:Toronto Botanical Garden\, 777 Lawrence Avenue East\, Toronto\, Ontario\, Canada
CATEGORIES:Sale
END:VEVENT
BEGIN:VEVENT
DTSTART;TZID=America/Chicago:20250621T090000
DTEND;TZID=America/Chicago:20250621T150000
DTSTAMP:20260421T111735
CREATED:20250310T184048Z
LAST-MODIFIED:20250310T184048Z
UID:41429-1750496400-1750518000@africanvioletsocietyofamerica.org
SUMMARY:First African Violet Society of Denton-TX
DESCRIPTION:Summer Sale and Workshop\nInstructional Class \nEvent Dates and Hours:\nSaturday\, June 21\, 2025\n9:00 am to 3:00 pm \nLocation:\nFirst Presbyterian Church\n1114 W. University Dr.\nDenton\, Texas 76201 \nContact:\nLinda Turner\nEmail: texasblackcow@yahoo.com \nClub website: FAVSD.org
URL:https://africanvioletsocietyofamerica.org/event/first-african-violet-society-of-denton-tx-4/
LOCATION:First Presbyterian Church Denton TX\, 1114 W. University Dr\, Denton\, TX\, 76201\, United States
CATEGORIES:Instructional class,Sale
END:VEVENT
BEGIN:VEVENT
DTSTART;TZID=America/Chicago:20250809T090000
DTEND;TZID=America/Chicago:20250809T150000
DTSTAMP:20260421T111735
CREATED:20250315T152502Z
LAST-MODIFIED:20250315T152502Z
UID:41465-1754730000-1754751600@africanvioletsocietyofamerica.org
SUMMARY:Southern New Jersey African Violet Club-NJ
DESCRIPTION:Plant Sale \nEvent Dates and Hours:\nSaturday\, August 9\, 2025\n9:00am – 3:00pm \nLocation:\nElwood Fire Hall\n414 Elwood Road\nElwood\, NJ 08217 \nContact:\nSandra Pine\nEmail: pine2@comcast.net \n 
URL:https://africanvioletsocietyofamerica.org/event/southern-new-jersey-african-violet-club-nj-2/
LOCATION:Elwood Fire Hall\, 414 Elwood Rd.\, Elwood\, NJ\, 08217\, United States
CATEGORIES:Sale
END:VEVENT
BEGIN:VEVENT
DTSTART;TZID=America/Chicago:20250919T090000
DTEND;TZID=America/Chicago:20250920T160000
DTSTAMP:20260421T111735
CREATED:20250609T144804Z
LAST-MODIFIED:20250626T213025Z
UID:42363-1758272400-1758384000@africanvioletsocietyofamerica.org
SUMMARY:Alpha African Violet Society\, First African Violet Society of Dallas\, First Nighter African Violet Society of Dallas-TX
DESCRIPTION:Fall Plant Sale \nEvent Dates and Hours:\nFriday\, September 19\, 2025\nSaturday\, September 20\, 2025\n9:00 am – 4:00 pm \nLocation:\nNorth Haven Gardens\n7700 Northaven Rd.\nDallas\, TX 75230 \nContact:\nMary Corondan\nEmail: mcorondan@yahoo.com \nClub email: first.nighter.avs@gmail.com\nClub website: fnavsd.org \nOther info to include:\nWorkshops at 10:00 am and 2:00 pm daily.
URL:https://africanvioletsocietyofamerica.org/event/alpha-african-violet-society-first-african-violet-society-of-dallas-first-nighter-african-violet-society-of-dallas-tx-2/
LOCATION:North Haven Gardens\, 7700 Northaven Road\, Dallas\, TX\, 75230\, United States
CATEGORIES:Sale
END:VEVENT
BEGIN:VEVENT
DTSTART;TZID=America/Chicago:20250928T100000
DTEND;TZID=America/Chicago:20250928T160000
DTSTAMP:20260421T111735
CREATED:20241001T000624Z
LAST-MODIFIED:20241001T011629Z
UID:39733-1759053600-1759075200@africanvioletsocietyofamerica.org
SUMMARY:Toronto African Violet & Gesneriad Society-CAN
DESCRIPTION:African Violet Sale \nEvent Dates and Hours:\nSunday\, September 28\, 2025\n10:00 am – 4:00 pm \nLocation:\nToronto Botanical Garden\n777 Lawrence Avenue East\nToronto\, Ontario M3C 1P2 \nContact: \nDoris Brownlie\nEmail: jtbrownlie@idirect.com\nSue Smith\nEmail: smith.sue2011@gmail.com \nOther Info to Include: \nFall Sale open to members and the public. \nFor more information: https://tavgs.ca/sales.html\nAdmission is free.
URL:https://africanvioletsocietyofamerica.org/event/toronto-african-violet-gesneriad-society-can-3/
LOCATION:Toronto Botanical Garden\, 777 Lawrence Avenue East\, Toronto\, Ontario\, Canada
CATEGORIES:Sale
END:VEVENT
BEGIN:VEVENT
DTSTART;TZID=America/Chicago:20251018T100000
DTEND;TZID=America/Chicago:20251018T150000
DTSTAMP:20260421T111735
CREATED:20250824T204505Z
LAST-MODIFIED:20250824T204545Z
UID:43098-1760781600-1760799600@africanvioletsocietyofamerica.org
SUMMARY:Central Arkansas African Violet Society-AR
DESCRIPTION:African Violet Plant Sale \nEvent Date and Hours:\nSaturday\, October 18\, 2025\n10:00 am – 3:00 pm \nLocation:\nBest Association Management\n10 Shackleford Plaza\, Suite 100\nLittle Rock\, Arkansas 72211 \nContact:\nAlice Brown\nPhone: 501-590-7692\nEmail: Jerrynalice@att.net \nClub email: caavs@yahoo.com \nOther info to include:\nInstructional class every hour on the hour.
URL:https://africanvioletsocietyofamerica.org/event/central-arkansas-african-violet-society-ar-2/
LOCATION:Best Association Management\, 10 Shackleford Plaza\, Suite 100\, Little Rock\, AR\, 72211\, United States
CATEGORIES:Sale
END:VEVENT
BEGIN:VEVENT
DTSTART;TZID=America/Chicago:20260207T100000
DTEND;TZID=America/Chicago:20260207T150000
DTSTAMP:20260421T111735
CREATED:20250909T012958Z
LAST-MODIFIED:20250909T012958Z
UID:43282-1770458400-1770476400@africanvioletsocietyofamerica.org
SUMMARY:Desert Sun African Violet and Gesneriad Society-AZ
DESCRIPTION:Plant Sale \nEvent Dates and Hours:\nSaturday\, Feb 7\, 2026\n10:00 a.m.- 3:00 p.m. \nLocation:\nValley Garden Center\n1809 N. 15th Avenue\nPhoenix\, AZ 85007 \nContact:\nKaren Broadway\nPhone: 602-405-2466\nEmail: karensavon@cox.net \nBeverly Wombold\nPhone: 600-351-1780 \nClub email: desertsunavsociety@gmail.com \nOther info to include:\nFree entry\, parking and plant drawing.
URL:https://africanvioletsocietyofamerica.org/event/desert-sun-african-violet-and-gesneriad-society-az-2/
LOCATION:Valley Garden Center\, 1809 N 15th Avenue\, Phoenix\, AZ\, 85007\, United States
CATEGORIES:Sale
END:VEVENT
BEGIN:VEVENT
DTSTART;TZID=America/Chicago:20260808T090000
DTEND;TZID=America/Chicago:20260808T150000
DTSTAMP:20260421T111735
CREATED:20260204T163558Z
LAST-MODIFIED:20260204T163558Z
UID:45512-1786179600-1786201200@africanvioletsocietyofamerica.org
SUMMARY:Southern New Jersey African Violet Club-NJ
DESCRIPTION:African Violet Plant Sale \nEvent Dates and Hours:\nSaturday\, August 8\, 2026\n9:00 am – 3:00 pm \nLocation:\nElwood Firehall\n414 Elwood Road\nElwood\, NJ 08037 \nContact:\nClub email: pine2@comcast.net
URL:https://africanvioletsocietyofamerica.org/event/southern-new-jersey-african-violet-club-nj-3/
LOCATION:Elwood Fire Hall\, 414 Elwood Rd.\, Elwood\, NJ\, 08217\, United States
CATEGORIES:Sale
END:VEVENT
END:VCALENDAR