BEGIN:VCALENDAR
VERSION:2.0
PRODID:-//African Violet Society of America - ECPv6.15.20//NONSGML v1.0//EN
CALSCALE:GREGORIAN
METHOD:PUBLISH
X-ORIGINAL-URL:https://africanvioletsocietyofamerica.org
X-WR-CALDESC:Events for African Violet Society of America
REFRESH-INTERVAL;VALUE=DURATION:PT1H
X-Robots-Tag:noindex
X-PUBLISHED-TTL:PT1H
BEGIN:VTIMEZONE
TZID:America/Chicago
BEGIN:DAYLIGHT
TZOFFSETFROM:-0600
TZOFFSETTO:-0500
TZNAME:CDT
DTSTART:20220313T080000
END:DAYLIGHT
BEGIN:STANDARD
TZOFFSETFROM:-0500
TZOFFSETTO:-0600
TZNAME:CST
DTSTART:20221106T070000
END:STANDARD
BEGIN:DAYLIGHT
TZOFFSETFROM:-0600
TZOFFSETTO:-0500
TZNAME:CDT
DTSTART:20230312T080000
END:DAYLIGHT
BEGIN:STANDARD
TZOFFSETFROM:-0500
TZOFFSETTO:-0600
TZNAME:CST
DTSTART:20231105T070000
END:STANDARD
BEGIN:DAYLIGHT
TZOFFSETFROM:-0600
TZOFFSETTO:-0500
TZNAME:CDT
DTSTART:20240310T080000
END:DAYLIGHT
BEGIN:STANDARD
TZOFFSETFROM:-0500
TZOFFSETTO:-0600
TZNAME:CST
DTSTART:20241103T070000
END:STANDARD
END:VTIMEZONE
BEGIN:VEVENT
DTSTART;TZID=America/Chicago:20231006T140000
DTEND;TZID=America/Chicago:20231007T140000
DTSTAMP:20260420T063651
CREATED:20230913T152327Z
LAST-MODIFIED:20230913T155217Z
UID:34484-1696600800-1696687200@africanvioletsocietyofamerica.org
SUMMARY:Moonlight African Violet and Gesneriad Society-TX
DESCRIPTION:Fall Plant Sale \nLocation: \nFort Worth Botanic Garden- In the Groves\n3220 Botanic Garden Blvd\nFort Worth\, Texas\, 76107 \noff of the westbound access road to I30 \nEvent Dates and Hours: \nFriday\, October 6\, 2023 from 2pm to 6pm\nSaturday\, October 7\, 2023 from 9am to 2pm \nEvent contact information: \nBonnie Harris\nbonnieharris1578@hotmail.com \nOther info to include:\nThis sale is outside in conjunction with BRIT and the Botanic Society plant sale. \nClub email: bonnieharris1578@hotmail.com \n 
URL:https://africanvioletsocietyofamerica.org/event/moonlight-african-violet-and-gesneriad-society-tx/
LOCATION:Fort Worth Botanic Garden\, 3220 Botanic Garden Blvd.\, Fort Worth\, TX\, 76107\, United States
CATEGORIES:Sale
END:VEVENT
BEGIN:VEVENT
DTSTART;TZID=America/Chicago:20231007T090000
DTEND;TZID=America/Chicago:20231007T150000
DTSTAMP:20260420T063651
CREATED:20230801T002508Z
LAST-MODIFIED:20230913T155436Z
UID:33578-1696669200-1696690800@africanvioletsocietyofamerica.org
SUMMARY:Spring Branch African Violet Club-TX
DESCRIPTION:Spring Branch African Violet Club \nFall Plant Sale \nEvent Dates and Hours: \nOctober 7\, 2023\nSale hours: 9:00 A.M. – 3:00 P.M. \nLocation: \nJudson Robinson Jr. Community Center\n2020 Hermann Dr.\nHouston\, Texas \n  \nEvent contact information: Teresa Kaminski\ntckaminski@sbcglobal.net \n 
URL:https://africanvioletsocietyofamerica.org/event/spring-branch-african-violet-club-tx/
LOCATION:Judson Robinson\, Jr. Community Center\, 2020 Hermann Dr.\, Houston\, TX\, 77004\, United States
CATEGORIES:Sale
END:VEVENT
END:VCALENDAR