BEGIN:VCALENDAR
VERSION:2.0
PRODID:-//African Violet Society of America - ECPv6.15.20//NONSGML v1.0//EN
CALSCALE:GREGORIAN
METHOD:PUBLISH
X-WR-CALNAME:African Violet Society of America
X-ORIGINAL-URL:https://africanvioletsocietyofamerica.org
X-WR-CALDESC:Events for African Violet Society of America
REFRESH-INTERVAL;VALUE=DURATION:PT1H
X-Robots-Tag:noindex
X-PUBLISHED-TTL:PT1H
BEGIN:VTIMEZONE
TZID:America/Chicago
BEGIN:DAYLIGHT
TZOFFSETFROM:-0600
TZOFFSETTO:-0500
TZNAME:CDT
DTSTART:20220313T080000
END:DAYLIGHT
BEGIN:STANDARD
TZOFFSETFROM:-0500
TZOFFSETTO:-0600
TZNAME:CST
DTSTART:20221106T070000
END:STANDARD
BEGIN:DAYLIGHT
TZOFFSETFROM:-0600
TZOFFSETTO:-0500
TZNAME:CDT
DTSTART:20230312T080000
END:DAYLIGHT
BEGIN:STANDARD
TZOFFSETFROM:-0500
TZOFFSETTO:-0600
TZNAME:CST
DTSTART:20231105T070000
END:STANDARD
BEGIN:DAYLIGHT
TZOFFSETFROM:-0600
TZOFFSETTO:-0500
TZNAME:CDT
DTSTART:20240310T080000
END:DAYLIGHT
BEGIN:STANDARD
TZOFFSETFROM:-0500
TZOFFSETTO:-0600
TZNAME:CST
DTSTART:20241103T070000
END:STANDARD
END:VTIMEZONE
BEGIN:VEVENT
DTSTART;TZID=America/Chicago:20230916T100000
DTEND;TZID=America/Chicago:20230916T150000
DTSTAMP:20260420T074528
CREATED:20230717T221038Z
LAST-MODIFIED:20230913T155721Z
UID:33538-1694858400-1694876400@africanvioletsocietyofamerica.org
SUMMARY:Memphis African Violet Society - TN
DESCRIPTION:Memphis African Violet Society \nFall Sale ~\nPlant & Supplies \nEvent Dates and Hours:\nSaturday\, September 16\, 2023\n10:00 AM to 3:00 PM \nLocation:\nCentral Christian Church\n531 S. McLean Blvd\nMemphis\, TN 38104 \nEvent contact information: Geneva Stagg\ngeneva.stagg@gmail.com \n  \n 
URL:https://africanvioletsocietyofamerica.org/event/memphis-african-violet-society-tn/
LOCATION:Central Christian Church\, 531 S. McLean Blvd\, Memphis\, TN\, 38104\, United States
CATEGORIES:Sale
END:VEVENT
BEGIN:VEVENT
DTSTART;TZID=America/Chicago:20230922T090000
DTEND;TZID=America/Chicago:20230923T160000
DTSTAMP:20260420T074528
CREATED:20230620T192111Z
LAST-MODIFIED:20230620T194005Z
UID:33278-1695373200-1695484800@africanvioletsocietyofamerica.org
SUMMARY:Alpha AVS\, First AVS of Dallas\, First Nighter AVS- TX
DESCRIPTION:Combined Metro AVS Fall Sale \nAfrican Violet Plant Sale & Instructional Class \nFriday September 22 & Saturday\, September 23\, 2023\n9:00 am to 4:00 pm \nNorth Haven Gardens\n7700 Northaven Rd.\nDallas\, TX 75230 \nEvent contact information:\nMary Corondan\, mcorondan@yahoo.com \nOther info to include:\nDemonstrations at 10 am and 2 pm daily \n 
URL:https://africanvioletsocietyofamerica.org/event/alpha-avs-first-avs-of-dallas-first-nighter-avs-tx/
LOCATION:North Haven Gardens\, 7700 Northaven Road\, Dallas\, TX\, 75230\, United States
CATEGORIES:Instructional class,Sale
END:VEVENT
BEGIN:VEVENT
DTSTART;TZID=America/Chicago:20230924T100000
DTEND;TZID=America/Chicago:20230924T160000
DTSTAMP:20260420T074528
CREATED:20221006T045433Z
LAST-MODIFIED:20221006T045433Z
UID:29746-1695549600-1695571200@africanvioletsocietyofamerica.org
SUMMARY:Toronto African Violet and Gesneriad Society - Toronto\, ON
DESCRIPTION:TAVGS Fall Sale \nEvent Dates and Hours:\nSunday September 24\, 2023\, 10:00 am to 4:00 pm \nEvent Location:\nToronto Botanical Garden\n777 Lawrence Avenue East\nToronto\, Ontario M3C 1P2 \nEvent Contacts:\nDoris Brownlie\, jtbrownlie@idirect.com\nSue Smith\, smith.sue2011@gmail.com \nOther Information:\nFall Sale opened to members and the public\nFor more information: https://tavgs.ca/sales.html\nAdmission is free \nClub email: jtbrownlie@idirect.com\nClub website: https://tavgs.ca
URL:https://africanvioletsocietyofamerica.org/event/toronto-african-violet-and-gesneriad-society-toronto-on-3/
LOCATION:Toronto Botanical Gardens\, 777 Lawrence Avenue East\, Toronto\, Ontario\, M3C 1P2\, Canada
CATEGORIES:Sale
END:VEVENT
END:VCALENDAR