BEGIN:VCALENDAR
VERSION:2.0
PRODID:-//African Violet Society of America - ECPv6.15.20//NONSGML v1.0//EN
CALSCALE:GREGORIAN
METHOD:PUBLISH
X-WR-CALNAME:African Violet Society of America
X-ORIGINAL-URL:https://africanvioletsocietyofamerica.org
X-WR-CALDESC:Events for African Violet Society of America
REFRESH-INTERVAL;VALUE=DURATION:PT1H
X-Robots-Tag:noindex
X-PUBLISHED-TTL:PT1H
BEGIN:VTIMEZONE
TZID:America/Chicago
BEGIN:DAYLIGHT
TZOFFSETFROM:-0600
TZOFFSETTO:-0500
TZNAME:CDT
DTSTART:20240310T080000
END:DAYLIGHT
BEGIN:STANDARD
TZOFFSETFROM:-0500
TZOFFSETTO:-0600
TZNAME:CST
DTSTART:20241103T070000
END:STANDARD
BEGIN:DAYLIGHT
TZOFFSETFROM:-0600
TZOFFSETTO:-0500
TZNAME:CDT
DTSTART:20250309T080000
END:DAYLIGHT
BEGIN:STANDARD
TZOFFSETFROM:-0500
TZOFFSETTO:-0600
TZNAME:CST
DTSTART:20251102T070000
END:STANDARD
BEGIN:DAYLIGHT
TZOFFSETFROM:-0600
TZOFFSETTO:-0500
TZNAME:CDT
DTSTART:20260308T080000
END:DAYLIGHT
BEGIN:STANDARD
TZOFFSETFROM:-0500
TZOFFSETTO:-0600
TZNAME:CST
DTSTART:20261101T070000
END:STANDARD
END:VTIMEZONE
BEGIN:VEVENT
DTSTART;TZID=America/Chicago:20251025T110000
DTEND;TZID=America/Chicago:20251025T150000
DTSTAMP:20260423T214419
CREATED:20250729T142302Z
LAST-MODIFIED:20250729T142302Z
UID:42855-1761390000-1761404400@africanvioletsocietyofamerica.org
SUMMARY:African Violet Society of Philadelphia & Liberty Bell Gesneriad Society-PA
DESCRIPTION:Display & Plant Sale \nEvent Dates and Hours:\nSaturday\, October 25th\, 2025\n11:00 am-3:00 pm \nLocation:\nCathedral Village Senior Living – Auditorium\n600 E. Cathedral Road\nPhiladelphia\, PA 19128 \nContact:\nSharon Fullerton\nEmail: LSGesneriad@Outlook.com \nJudy Smith\nEmail: phillyviolets@gmail.com \nClub email:  judithsmith0@gmail.com\nClub website:  http://www.phillyviolets.org \nOther info to include:\nThe display will represent a collection of unusual African violet as well as rare Gesneriads. \nThe plant sale will offer starter plants from members’ collections as well as from Violet Barn and Gary’s Specialty. \nThere will also be an assortment of other plants and an African violet clinic.
URL:https://africanvioletsocietyofamerica.org/event/african-violet-society-of-philadelphia-liberty-bell-gesneriad-society-pa-2/
LOCATION:Cathedral Village Senior Living Community\, 600 E. Cathedral Rd\, Philadelphia\, PA\, 19128\, United States
CATEGORIES:Display/Sale
END:VEVENT
END:VCALENDAR