BEGIN:VCALENDAR
VERSION:2.0
PRODID:-//African Violet Society of America - ECPv6.15.20//NONSGML v1.0//EN
CALSCALE:GREGORIAN
METHOD:PUBLISH
X-WR-CALNAME:African Violet Society of America
X-ORIGINAL-URL:https://africanvioletsocietyofamerica.org
X-WR-CALDESC:Events for African Violet Society of America
REFRESH-INTERVAL;VALUE=DURATION:PT1H
X-Robots-Tag:noindex
X-PUBLISHED-TTL:PT1H
BEGIN:VTIMEZONE
TZID:America/Chicago
BEGIN:DAYLIGHT
TZOFFSETFROM:-0600
TZOFFSETTO:-0500
TZNAME:CDT
DTSTART:20250309T080000
END:DAYLIGHT
BEGIN:STANDARD
TZOFFSETFROM:-0500
TZOFFSETTO:-0600
TZNAME:CST
DTSTART:20251102T070000
END:STANDARD
BEGIN:DAYLIGHT
TZOFFSETFROM:-0600
TZOFFSETTO:-0500
TZNAME:CDT
DTSTART:20260308T080000
END:DAYLIGHT
BEGIN:STANDARD
TZOFFSETFROM:-0500
TZOFFSETTO:-0600
TZNAME:CST
DTSTART:20261101T070000
END:STANDARD
BEGIN:DAYLIGHT
TZOFFSETFROM:-0600
TZOFFSETTO:-0500
TZNAME:CDT
DTSTART:20270314T080000
END:DAYLIGHT
BEGIN:STANDARD
TZOFFSETFROM:-0500
TZOFFSETTO:-0600
TZNAME:CST
DTSTART:20271107T070000
END:STANDARD
END:VTIMEZONE
BEGIN:VEVENT
DTSTART;TZID=America/Chicago:20260306T110000
DTEND;TZID=America/Chicago:20260307T140000
DTSTAMP:20260421T102642
CREATED:20251027T171206Z
LAST-MODIFIED:20251027T171206Z
UID:43911-1772794800-1772892000@africanvioletsocietyofamerica.org
SUMMARY:Central Florida African Violet Society-FL
DESCRIPTION:Spring Plant Sale and Display \nEvent Dates and Hours:\nFriday March 6\, 2026\n11:00 a.m. –  4: 00 p.m. \nSaturday March 7\, 2026\n9:00 a.m. – 2:00 p.m. \nLocation:\nBeardall Senior Center\n800 S. Delaney Ave.\nOrlando\, Fl 32801 \nContact:\nJim King\nEmail: Jking263@cfl.rr.com \n  \n 
URL:https://africanvioletsocietyofamerica.org/event/central-florida-african-violet-society-fl-5/
LOCATION:Beardall Senior Center\, 800 S. Delaney Avenue\, Orlando\, FL\, 32801\, United States
CATEGORIES:Display/Sale
END:VEVENT
BEGIN:VEVENT
DTSTART;TZID=America/Chicago:20260327T100000
DTEND;TZID=America/Chicago:20260328T150000
DTSTAMP:20260421T102642
CREATED:20251031T152121Z
LAST-MODIFIED:20251031T152121Z
UID:44025-1774605600-1774710000@africanvioletsocietyofamerica.org
SUMMARY:Heart of Jacksonville African Violet Society-FL
DESCRIPTION:African Violet Display and Sale\n“Galaxy of Violets” \nEvent Dates and Hours:\nFriday\, March 27\, 2026\n10:00 a.m. – 4:00 p.m. \nSaturday\, March 28\, 2026\n10:00 a.m. to 3:00 p.m. \nLocation:\nSan Jose Church of Christ\n6233 San Jose Boulevard\nJacksonville\, FL 32217 \nContact:\nBobbi Johannsen\nEmail: bobbi@jacksonvilleviolets.org \nClub email: info@jacksonvilleviolets.org\nClub website: https://jacksonvilleviolets.org/ \nOther Info to Include:\nAfrican violets and other gesneriads will be for sale.\nAdmission and parking are free. \n 
URL:https://africanvioletsocietyofamerica.org/event/heart-of-jacksonville-african-violet-society-fl-3/
LOCATION:San Jose Church of Christ\, 6233 San Jose Blvd\, Jacksonville\, FL\, 32217\, United States
CATEGORIES:Display/Sale
END:VEVENT
BEGIN:VEVENT
DTSTART;TZID=America/Chicago:20260328T100000
DTEND;TZID=America/Chicago:20260328T150000
DTSTAMP:20260421T102642
CREATED:20251208T202101Z
LAST-MODIFIED:20251208T202101Z
UID:44479-1774692000-1774710000@africanvioletsocietyofamerica.org
SUMMARY:Michigan State African Violet Society-MI
DESCRIPTION:African Violet Display & Plant Sale \nEvent Dates and Hours:\nSaturday\, March 28\, 2026\n10:00 a.m. – 3:00 p.m. \nLocation:\nMatthaei Botanical Gardens\n1800 North Dixboro Road\nAnn Arbor\, Michigan 48105 \nContact:\nLynn Allen\nEmail: LynnAllen0413@comcast.net \nClub email:  lynnallen0413@comcast.net \nOther info to include:\nLeaf propagation class at 11:00 a.m.
URL:https://africanvioletsocietyofamerica.org/event/michigan-state-african-violet-society-mi-4/
LOCATION:Matthaei Botanical Gardens\, 1800 N. Dixboro Road\, Ann Arbor\, MI\, 48105\, United States
CATEGORIES:Display/Sale,Instructional class
END:VEVENT
BEGIN:VEVENT
DTSTART;TZID=America/Chicago:20260328T100000
DTEND;TZID=America/Chicago:20260328T160000
DTSTAMP:20260421T102642
CREATED:20250924T153433Z
LAST-MODIFIED:20250924T153433Z
UID:43454-1774692000-1774713600@africanvioletsocietyofamerica.org
SUMMARY:African Violet and Gesneriad Society-DE
DESCRIPTION:African Violet Display & Sale \nEvent Dates and Hours:\nSaturday\, March 28\, 2026\n10:00 am to 4:00 pm \nLocation:\nBoscovs Department Store\nChristiana Town Center\nRoute 273\nChristiana\, DE 19702 \nContact:\nBobbie LaFashia\nEmail: rlafash@comcast.net \n  \n 
URL:https://africanvioletsocietyofamerica.org/event/african-violet-and-gesneriad-society-de/
LOCATION:Boscov’s Department Store\, Christiana Town Center Route 273\, Christiana\, DE\, 19702\, United States
CATEGORIES:Display/Sale
END:VEVENT
END:VCALENDAR