BEGIN:VCALENDAR
VERSION:2.0
PRODID:-//African Violet Society of America - ECPv6.15.20//NONSGML v1.0//EN
CALSCALE:GREGORIAN
METHOD:PUBLISH
X-ORIGINAL-URL:https://africanvioletsocietyofamerica.org
X-WR-CALDESC:Events for African Violet Society of America
REFRESH-INTERVAL;VALUE=DURATION:PT1H
X-Robots-Tag:noindex
X-PUBLISHED-TTL:PT1H
BEGIN:VTIMEZONE
TZID:America/New_York
BEGIN:DAYLIGHT
TZOFFSETFROM:-0500
TZOFFSETTO:-0400
TZNAME:EDT
DTSTART:20210314T070000
END:DAYLIGHT
BEGIN:STANDARD
TZOFFSETFROM:-0400
TZOFFSETTO:-0500
TZNAME:EST
DTSTART:20211107T060000
END:STANDARD
BEGIN:DAYLIGHT
TZOFFSETFROM:-0500
TZOFFSETTO:-0400
TZNAME:EDT
DTSTART:20220313T070000
END:DAYLIGHT
BEGIN:STANDARD
TZOFFSETFROM:-0400
TZOFFSETTO:-0500
TZNAME:EST
DTSTART:20221106T060000
END:STANDARD
BEGIN:DAYLIGHT
TZOFFSETFROM:-0500
TZOFFSETTO:-0400
TZNAME:EDT
DTSTART:20230312T070000
END:DAYLIGHT
BEGIN:STANDARD
TZOFFSETFROM:-0400
TZOFFSETTO:-0500
TZNAME:EST
DTSTART:20231105T060000
END:STANDARD
END:VTIMEZONE
BEGIN:VEVENT
DTSTART;TZID=America/New_York:20220225T090000
DTEND;TZID=America/New_York:20220226T170000
DTSTAMP:20260420T002324
CREATED:20201228T180604Z
LAST-MODIFIED:20211228T211228Z
UID:12655-1645779600-1645894800@africanvioletsocietyofamerica.org
SUMMARY:Tampa AVS - Tampa FL
DESCRIPTION:Show Theme: Violets Celebrate the Wonders of Space \nFree Admission \nAVSA judged show with African violets and many other gesneriads for sale. \nFriday\, February 25\nPlant sales:  9:00 am to 5:00 pm\nShow open to the public:  12:00 pm to 5:00 pm \nSaturday\, February 26\nShow and Plant sales:  9:00 am to 3:00 pm \nCity-State:\nTampa\, FL \nType of Event:\nAnnual Show and Sale \nLocation:\nTemple Terrace United Methodist Church\n5030 East Busch Boulevard\nTampa\, FL  33617 \nContact Info:  Mary Lou Harden\, mlhard@verizon.net \nClub Website URL:\nwww.tampaafricanviolets.com
URL:https://africanvioletsocietyofamerica.org/event/tampa-avs-show-and-sale/
LOCATION:GA
CATEGORIES:Show/Sale
ORGANIZER;CN="Tampa AVS":MAILTO:mlhard@verizon.net
END:VEVENT
END:VCALENDAR